BEGIN:VCALENDAR
VERSION:2.0
PRODID:-//Purkersdorf Online//NONSGML V1.0//DE
BEGIN:VEVENT
UID:RFCALITEM3b1a1a0c-52ad-a8d8-b57f-9e0141485cbe20221111T080000Z
DTSTAMP:20260425T161115
DTSTART:20221111T090000
DTEND:20221111T130000
LAST-MODIFIED:00000000T000000
DESCRIPTION:Es ist wieder so weit.<br>Am 11.<br>November 2022 lädt das G
 ymnasium Purkersdorf zum Tag der offenen Tür ein.<br>Interessierte könne
 n sich im Zeitraum von 9:00 bis 13:00 Uhr mit einer geführten Besichtigu
 ng über die Schule informieren.<br>Informationsblöcke von Frau Direktori
 n HR Mag.<br>Ille finden um 09:30 Uhr sowie um 11: 30 Uhr statt.<br>Weit
 ere Informationen sind auf der Schulhomepage zu finden: www.gympurkersdo
 rf.ac.at
 
LOCATION:BG/BRG Purkersdorf, Herrengasse 4, 3002 Purkersdorf Herrengasse 4 3002 Purkersdorf
SUMMARY:Tag der offenen Tür BG/BRG Purkersdorf
END:VEVENT
END:VCALENDAR
