BEGIN:VCALENDAR
VERSION:2.0
PRODID:-//Purkersdorf Online//NONSGML V1.0//DE
BEGIN:VEVENT
UID:14703@puon.at
DTSTAMP:20260424T192301
DTSTART;VALUE=DATE:20221029
DTEND;VALUE=DATE:20221030
LAST-MODIFIED:20221020T160522
DESCRIPTION:in der Nacht von Samstag\, den 29.10 auf Sonntag\, den 30.10
 . werden die Uhren von 3 Uhr auf 2 Uhr zurückgestellt!\r\n\r\nEs herrsc
 ht dann wieder Normalzeit! 
 
SUMMARY:Ende der Sommerzeit
END:VEVENT
END:VCALENDAR
