BEGIN:VCALENDAR
VERSION:2.0
PRODID:-//Purkersdorf Online//NONSGML V1.0//DE
BEGIN:VEVENT
UID:e879759366340599@facebook.com
DTSTAMP:20260422T114526
DTSTART:20221021T170000
DTEND:20221021T230000
LAST-MODIFIED:20221020T111745
DESCRIPTION:11.<br>Runde Meisterschaft<br><br>18:00 Reserve <br>20:00 KM
 <br><br>Um 16:30 spielt bereits unsere erfolgreiche U12 ⚽️<br><br><b
 r><br>https://www.facebook.com/events/879759366340599/
 
LOCATION:FC Purkersdorf - offizielle Vereinsseite
URL:https://www.facebook.com/events/879759366340599/
SUMMARY:FC Purkersdorf - SG Hohenberg
END:VEVENT
END:VCALENDAR
