BEGIN:VCALENDAR
VERSION:2.0
PRODID:-//Purkersdorf Online//NONSGML V1.0//DE
BEGIN:VEVENT
UID:14701@puon.at
DTSTAMP:20260422T040833
DTSTART:20221017T150000
DTEND:20221017T180000
LAST-MODIFIED:20221014T125413
DESCRIPTION:Impfbus ohne Anmeldung\r\n\r\nDer neue\, an die Omikron BA.1
 -Variante angepasste Impfstoff ist verfügbar.  \r\n\r\nWeiters werden d
 ie Impfstoffe von BioNTech/Pfizer\, Moderna\, Valneva und Novavax verwen
 det.\r\n\r\n
 
LOCATION:Hauptplatz
SUMMARY:Impfen ohne Termin
END:VEVENT
END:VCALENDAR
