BEGIN:VCALENDAR
VERSION:2.0
PRODID:-//Purkersdorf Online//NONSGML V1.0//DE
BEGIN:VEVENT
UID:14700@puon.at
DTSTAMP:20260426T062429
DTSTART:20221120T180000
DTEND:20221120T210000
LAST-MODIFIED:20221008T184010
DESCRIPTION:Kömödie von Marc Camoletti\r\nAktuelle Fassung von Robert 
 Kolar
 
LOCATION:Stadtsaal Pressbaum, Wientalbühne
URL:http://www.wientalbuehne.at
SUMMARY:BOEING BOEING restarted
END:VEVENT
END:VCALENDAR
