BEGIN:VCALENDAR
VERSION:2.0
PRODID:-//Purkersdorf Online//NONSGML V1.0//DE
BEGIN:VEVENT
UID:14694@puon.at
DTSTAMP:20260425T161116
DTSTART:20221111T200000
DTEND:20221111T230000
LAST-MODIFIED:20221008T183646
DESCRIPTION:Komodie von Marc Camoletti\r\nAktuelle Fassung von Robert Ko
 lar
 
LOCATION:Stadtsaal Pressbaum, Wientalbühne
URL:http://www.wientalbuehne.at
SUMMARY:BOEING BOEING restarted
END:VEVENT
END:VCALENDAR
