BEGIN:VCALENDAR
VERSION:2.0
PRODID:-//Purkersdorf Online//NONSGML V1.0//DE
BEGIN:VEVENT
UID:14690@puon.at
DTSTAMP:20260421T141214
DTSTART:20221009T080000
DTEND:20221009T160000
LAST-MODIFIED:20221008T152116
DESCRIPTION:Wahlzeit am Sonntag\, den 9. Oktober 2022 von 08:00 bis 16:0
 0 Uhr\r\n\r\nBitte bringen Sie unbedingt Ihre Amtliche Wahlinformation m
 it.
 
LOCATION:Wahllokale
SUMMARY:Bundespräsidentenwahl
END:VEVENT
END:VCALENDAR
