BEGIN:VCALENDAR
VERSION:2.0
PRODID:-//Purkersdorf Online//NONSGML V1.0//DE
BEGIN:VEVENT
UID:14689@puon.at
DTSTAMP:20260426T030358
DTSTART:20221118T193000
DTEND:20221118T220000
LAST-MODIFIED:20221008T152120
DESCRIPTION:Â© Foto: Lukas Beck.com\r\n\r\nEin Klangkosmos des ehemalige
 n "Ostbahn" Gitarristen\r\n\r\n\r\nEin unbÃ¤ndiger kreativer Unruhezusta
 nd hat den „Gitarrenversteher“ und Soundritualisten Karl Ritter\, seit J
 ahrzehnten kÃ¼nstlerrisch unkorrumpierbare FixgrÃ¶ÃŸe der Musikszene hie
 rzulande\, auch mit Beginn seines sechsten Lebensjahrzehnts nicht verlas
 sen.\r\nRitters Klangkosmos ist ein unaufhÃ¶rlich betriebenes Versuchsla
 bor fÃ¼r das er immer die besten Bedingungen mit herausragenden Musikern
 /Stilisten bereitstellen mÃ¶chte.\r\nTiefgreifende NarrativitÃ¤t\, nonko
 nformistische Kompromisslosigkeit\, genreÃ¼berbrÃ¼ckende Extravertierthe
 it\, so schlicht wie komplex\, sind dabei grundlegende Botenstoffe\, die
  die Kreativweite des singulÃ¤ren Stilisten Karl Ritter abbilden.\r\nUr-
 musikantisch\, immer verbindlich und lebensfroh\, eine AtmosphÃ¤re des S
 uchens bewirkend.\r\nIm Gefolge alter Kumpane aus Kurt Ostbahn Kombo-Tag
 en\, Neo-KOMBOjaner Prozorov ausgeklammert\, geht Ritter jÃ¼ngst daran\,
  in gewohnter „Ganzsachlichkeit“\, einen originÃ¤ren Bandsound zu entwic
 keln.\r\nDas zÃ¤hlt vorrangig. MusikerpersÃ¶nlichkeit ersten Ranges steh
 en im da mit Rat und Tat zur Seite.\r\nEin Weltklasse Jazz-Drummer\, in 
 der Person von Herbert Pirker\, Erich Buchebner am Bass\,Philipp Nykrin 
 an den Tasteninstrumenten und der Ausnahmesaxophonist Andrej Prozorov\, 
 einzig dem Sopransaxophon zugeneigt.\r\nKarl Ritters erstklassige Tafelr
 unde. Was sie alle kennzeichnet ist ihre vorbehaltlose musikalische Offe
 nheit\, die einen aufregenden Blend aus Rock-\, Jazz-\, Blues-Chiffren a
 ufleben lassen wird.\r\nNach eigenen Mustern – verfremdet oder ironisch 
 gebrochen. Prinzipell behÃ¤nde gebÃ¼ndelt in rock-affine Einfassungen. D
 er Werkekanon ist rein instrumental verortet. Sprudeln werden lÃ¤ssiger 
 Spielverlauf\, additive Interaktion\, knarzende Riff-Monster\, fette Hoo
 klines\, stringent aufwallende Rhythmuspattern und saxophonistische „Fly
  Overs“.\r\nKonzeption und Idee mit hohem SpontanitÃ¤tsfaktor: Karl Ritt
 er. Und das heiÃŸt nichts weniger als aufrichtig gelebte IntegritÃ¤t\, D
 irektheit\, Leidenschaft. (Pressetext)\r\n\r\nBesetzung:\r\nKarl Ritter-
  Gitarren\r\nErich Buchebner-Bass\r\nHerbert Pirker-Drums\r\nAndrej Proz
 orov-Sopransax\r\nPhilipp Nykrin-Keyboards\r\n\r\n \r\n ________________
 ________________________________________________________________________
 _____________\r\n\r\nEinlass: 18:30 Uhr\r\nBeginn: 19:30 Uhr\r\n\r\nKart
 en:\r\n\r\n    VVK oeticket: online  | Tel.: 0196096\r\n    Eventjet: on
 line...demnÃ¤chst\r\n    Karten Vorverkauf: € 22.-\r\n    Karten Abendka
 ssa: € 25.-\r\n\r\n\r\nErmÃ¤ÃŸigungen:\r\n\r\n    SchÃ¼ler/Studenten/142
 4Jugend:karte NÃ– (Ausweis) Ticketpreis € 10.-\r\n    Ã–1-Club: 10% ErmÃ
 ¤ÃŸigung pro Ticket (Club-Ausweis)\r\n    AK NÃ–/Ã–GB: 20% ErmÃ¤ÃŸigung 
 pro Ticket (AK-Servicekarte/Ã–GB-Mitgliedskarte)
 
LOCATION:Kulturverein "Die BÃ¼hne"
URL:https://www.die-buehne-purkersdorf.at/index.php?id=37
SUMMARY:Karl Ritter‘s KOMBOjaner
END:VEVENT
END:VCALENDAR
