BEGIN:VCALENDAR
VERSION:2.0
PRODID:-//Purkersdorf Online//NONSGML V1.0//DE
BEGIN:VEVENT
UID:14688@puon.at
DTSTAMP:20260425T202733
DTSTART:20221114T193000
DTEND:20221114T220000
LAST-MODIFIED:20221008T141618
DESCRIPTION:Foto Copyright: Christian Strobl\r\n\r\nIm Rahmen von "come 
 on"\r\n\r\nEine Band? Echte Instrumente? – Nein!\r\n\r\nCreexx ist elekt
 ronischer MusikkÃ¼nstler und versorgt seit Anfang 2021 wÃ¶chentlich die 
 Abonnenten seines YouTube Kanals mit einem neuen einstÃ¼ndigen DJ Mix Vi
 deo.\r\nIn der BÃ¼hne Purkersdorf wird es nun die Gelegenheit geben ihn 
 live hinter dem DJ-Pult zu erleben.\r\nGeplant ist ein DJ-Set aus top-ak
 tuellen Progressive House & Trance Tracks sowie eigenen Produktionen. (P
 ressetext)\r\n\r\nhttps://www.youtube.com/c/Creexx _____________________
 ________________________________________________________________________
 ________ Einlass: 18:30 Uhr\r\nKonzert: 19:30 Uhr\r\n\r\nEintritt: Freiw
 illige Spende\r\n\r\n\r\nGefÃ¶rdert durch das Land NÃ– "come-on" Kultur 
 NÃ– 
 
LOCATION:Kulturverein "Die BÃ¼hne"
URL:https://www.die-buehne-purkersdorf.at/index.php?id=37
SUMMARY:Blue Monday DJ "Creexx"
END:VEVENT
END:VCALENDAR
