BEGIN:VCALENDAR
VERSION:2.0
PRODID:-//Purkersdorf Online//NONSGML V1.0//DE
BEGIN:VEVENT
UID:14687@puon.at
DTSTAMP:20260425T173826
DTSTART:20221112T193000
DTEND:20221112T220000
LAST-MODIFIED:20221008T134004
DESCRIPTION:Foto copyright: Theresa Pewal\r\n\r\nDie Band des Top-Bassis
 ten Gregor Aufmesser\r\n \r\nAuf dem DebĂĽtalbum “Orbs” wurde versucht s
 ich musikalisch mit vier Teilbereiche der Physik\, nĂ¤mlich der Mechanik
 \, der Thermodynamik\, der RelativitĂ¤tstheorie und der Quantentheorie a
 useinanderzusetzen.\r\nDie Klangfarben welche hierbei entstanden sind la
 ssen zwar erahnen dass es sich bei dem Ensemble um eine klassische Septe
 tt Besetzung handelt\, bringen den ZuhĂ¶rer jedoch immer wieder in vĂ¶ll
 ig unerwartete Klangwelten jenseits der Erwartungshaltungen\, nur um sie
  im richtigen Moment wieder abzuholen und auf der musikalischen Welle mi
 treiten zu lassen.\r\nDie Abwechslung zwischen kammermusikalischen Passa
 gen und dem groĂźen Sound der vollen Band bringt zusĂ¤tzliche spannungsg
 eladene Momente mit sich.\r\n"Klingt so Physik?” wird sich wohl so manch
 er fragen nachdem er Aufmessers Schneide gehĂ¶rt hat. Eine Antwort darau
 f kann leider so leicht nicht geliefert werden\, aber wenn nicht\, dann 
 ist es vielleicht auch egal.\r\n\r\nNachdem sich das zeitgenĂ¶ssische Ja
 zzensemble Aufmessers Schneide auf ihrem DebĂĽtalbum auf die Welt der Ph
 ysik beschrĂ¤nkt hat\, verarbeitet Komponist Gregor Aufmesser nun fĂĽr d
 as neue Konzertprogramm nationale und weltpolitische Geschehnisse der le
 tzten Jahre\, welche ihn stark beeinflusst haben.\r\n„Moria“ beispielswe
 ise verarbeitet Gedanken zur FlĂĽchtlingskrise\, in welcher sich die Ă¶s
 terreichische Politik als verachtend gegenĂĽber menschlichem Elend in un
 mittelbarer NĂ¤he gezeigt hat. „Terror in Vienna" spiegelt den Umgang de
 s Komponisten mit dem schockierenden Terroranschlag in Wien im Jahr 2020
  wieder.(Pressetext)\r\n\r\nBesetzung:\r\nDominik Fuss - Trompete\r\nLuk
 as Schiemer - Saxophone Leonhard Skorupa - Tenorsaxophon / Klarinetten\r
 \nAlois Eberl - Posaune / Akkordeon\r\nLukas Kletzander - Piano\r\nGrego
 r Aufmesser – Kontrabass\, Komposition\r\nLukas Aichinger - Schlagzeug\r
 \n\r\nEINE KOOPERATION MIT MUSIK AKTUELL    ____________________________
 ________________________________________________________________________
 _\r\n\r\nEinlass: 18:30 Uhr\r\nBeginn: 19:30 Uhr\r\n\r\nKarten:\r\n\r\n 
    VVK oeticket: Karten online | Tel.: 0196096\r\n    VVK EVENTJET: Kart
 en hier bestellen... demnĂ¤chst\r\n    Karten Vorverkauf: € 20.-\r\n    
 Karten Abendkassa: € 23.-\r\n\r\n\r\nErmĂ¤Ăźigungen:\r\n\r\n    SchĂĽler
 /Studenten/1424Jugend:karte NĂ– (Ausweis) Ticketpreis € 10.-\r\n    Ă–1-
 Club: 10% ErmĂ¤Ăźigung pro Ticket (Club-Ausweis)\r\n    AK NĂ–/Ă–GB: 20%
  ErmĂ¤Ăźigung pro Ticket (AK-Servicekarte/Ă–GB-Mitgliedskarte)\r\n\r\n \
 r\nFreie Platzwahl!\r\nDas bedeutet\, dass Sie mit Ihrem Ticket entsprec
 hend den Ă¶rtlichen Gegebenheiten Ihren Platz frei auswĂ¤hlen kĂ¶nnen.\r
 \nEs kann sich dabei um SitzplĂ¤tze\, StehplĂ¤tze oder eine Teilbestuhlu
 ng ohne Sitzplatzanspruch handeln.
 
LOCATION:Kulturverein "Die BĂĽhne"
URL:https://www.die-buehne-purkersdorf.at/index.php?id=37
SUMMARY:Aufmessers Schneide - Jazzemsemble
END:VEVENT
END:VCALENDAR
