BEGIN:VCALENDAR
VERSION:2.0
PRODID:-//Purkersdorf Online//NONSGML V1.0//DE
BEGIN:VEVENT
UID:14685@puon.at
DTSTAMP:20260425T053929
DTSTART:20221105T193000
DTEND:20221105T220000
LAST-MODIFIED:20221008T130648
DESCRIPTION:Â© Foto: Ernst Jauck\r\n\r\nDie WÃ¶dmasta sind weltberÃ¼hmt 
 in Wien-Favoriten und verstreuten GaststÃ¤tten zwischen Hollabrunn und S
 tockerau. Weitere Orte werden folgen. Mit Garantie. Sie erzÃ¤hlen Geschi
 chten vom Raufen\, der Liebe\, vom Saufen\, dem kleinen GlÃ¼ck im GroÃŸe
 n\, dem Scheitern und Wieder-Aufstehen\, mit denen sie der geschundenen 
 Ã¶sterreichischen Seele ein StÃ¼ck WÃ¼rde und Hoffnung zurÃ¼ckgeben. \r\
 n\r\n \r\n\r\nDahinter stecken zwei Fixsterne der heimischen Musikszene:
  Roland Vogl & Dietmar Baumgartner. Ersterer spielt Gitarre bei Wolfgang
  Ambros\, letzterer wÃ¼rgt das Stromruder bei Alkbottle. Gemeinsam verwa
 ndeln sie Pop-Klassiker der 70er und 80er Jahre in genuine Mundart-Hader
 n\, haben aber auch ihre eigenen Hits („Amsterdam“\, „Den Wurschtl kann 
 kana daschlogn“) im Talon. Pizzera & Jaus\, Seiler & Speer\, Simon & Gar
 funkel und Konsorten dÃ¼rfen sich schon einmal warm anziehen. \r\n\r\n \
 r\n\r\nNach zahlreichen Singles und der in Zusammenarbeit mit Thomas Sti
 psits entstandenen EP “No Na Ned“ folgt nun das langersehnte Album. Mit 
 dabei die Austro-Legenden Mischa Krausz (Fendrich\, Dujmic\, Bill\, Hell
 er\, Morak...) am Bass und Wolfgang Luckner (Danzer\, Die Seer..) an der
  Schiessbude... Kommen Sie\, staunen Sie\, qualifizieren Sie sich fÃ¼r d
 ie WÃ¶dmastaschaft!\r\n\r\nDie WÃ¶dmasta - "Wann di da Teifl reit" - akt
 uelles Album\r\n\r\nhttps://www.diewoedmasta.com/\r\n\r\n \r\n _________
 ________________________________________________________________________
 ____________________\r\n\r\n\r\nEinlass: 18:30 Uhr\r\nBeginn: 19:30 Uhr\
 r\n\r\nKarten:\r\n\r\n    VVK oeticket: online  | Tel.: 0196096\r\n    E
 ventjet: online...demnÃ¤chst\r\n    Karten Vorverkauf: € 22.-\r\n    Kar
 ten Abendkassa: € 25.-\r\n\r\n\r\nErmÃ¤ÃŸigungen:\r\n\r\n    SchÃ¼ler/St
 udenten/1424Jugend:karte NÃ– (Ausweis) Ticketpreis € 10.-\r\n    Ã–1-Clu
 b: 10% ErmÃ¤ÃŸigung pro Ticket (Club-Ausweis)\r\n    AK NÃ–/Ã–GB: 20% Er
 mÃ¤ÃŸigung pro Ticket (AK-Servicekarte/Ã–GB-Mitgliedskarte)
 
LOCATION:Kulturverein "Die BÃ¼hne"
URL:https://www.die-buehne-purkersdorf.at/index.php?id=37
SUMMARY:WÃ–DMASTA - MundartPop aus dem Feinkostladen
END:VEVENT
END:VCALENDAR
