BEGIN:VCALENDAR
VERSION:2.0
PRODID:-//Purkersdorf Online//NONSGML V1.0//DE
BEGIN:VEVENT
UID:14684@puon.at
DTSTAMP:20260425T035053
DTSTART:20221104T193000
DTEND:20221104T220000
LAST-MODIFIED:20221008T130023
DESCRIPTION:Foto: c Ludwig Rusch\r\n\r\nFreuen sie sich auf die Doku Ã¼b
 er das wohl unbekannteste Spitzenhotel der Welt.\r\n\r\nDie einzigartige
  Belegschaft dieses liebenswerten Mehrsternetempels packt ihre geheimste
 n Erinnerungen und Geschichten Ã¼ber Alpha und Omega Promis\, Menschen a
 m Rande des Nervenzusammenbruchs und Sergeant Bastis Lonely Handybussi B
 and aus.\r\n\r\nIm Grand-Hotel Supancic kÃ¶nnen sie auf einer Zeitreise 
 durch die Musikgeschichte im Schatten Coronas von Walter von der Vogelwe
 ide Ã¼ber Arnold SchÃ¶nberg bis hin zu Wellerman surfen.\r\n\r\nHier wur
 de Bob Dylan nicht zum ersten Mal zum TrickbetrÃ¼ger\, hier logierte der
  allernetteste aller Gangsta-Rapper und hier entstanden die glaubwÃ¼rdig
 sten VerschwÃ¶rungstheorien seit der Kinderinsel von Hillary Clinton.\r\
 n\r\nAber auch DÃ¼steres und Rabenschwarzes ist hier geschehen: So manch
 er Leiharbeiter sang seinen Blues\, AluhuttrÃ¤ger dienten als Blitzablei
 ter und die Canasta-Runde Ternitz stÃ¼rzte sich ins Verderben.\r\n\r\nBu
 chen auch Sie rechtzeitig Ihren Aufenthalt im Grand-Hotel Supancic und c
 hecken Sie ein!\r\n\r\nRegie: Nadja Maleh\r\n __________________________
 ________________________________________________________________________
 ___\r\n\r\nEinlass: 18:30 Uhr\r\nBeginn: 19:30 Uhr\r\n\r\nKarten:\r\n\r\
 n    VVK oeticket: Karten online | Tel.: 0196096\r\n    VVK EVENTJET: Ka
 rten hier bestellen... demnÃ¤chst\r\n    Karten Vorverkauf: € 23.-\r\n  
   Karten Abendkassa: € 25.-\r\n\r\n\r\nErmÃ¤ÃŸigungen:\r\n\r\n    SchÃ¼l
 er/Studenten/1424Jugend:karte NÃ– (Ausweis) Ticketpreis € 10.-\r\n    Ã–
 1-Club: 10% ErmÃ¤ÃŸigung pro Ticket (Club-Ausweis)\r\n    AK NÃ–/Ã–GB: 2
 0% ErmÃ¤ÃŸigung pro Ticket (AK-Servicekarte/Ã–GB-Mitgliedskarte)\r\n\r\n
  \r\nFreie Platzwahl!\r\nDas bedeutet\, dass Sie mit Ihrem Ticket entspr
 echend den Ã¶rtlichen Gegebenheiten Ihren Platz frei auswÃ¤hlen kÃ¶nnen.
 \r\nEs kann sich dabei um SitzplÃ¤tze\, StehplÃ¤tze oder eine Teilbestuh
 lung ohne Sitzplatzanspruch handeln.
 
LOCATION:Kulturverein "Die BÃ¼hne"
URL:https://www.die-buehne-purkersdorf.at/index.php?id=37
SUMMARY:MIKE SUPANCIC  Grand-Hotel Supancic
END:VEVENT
END:VCALENDAR
