BEGIN:VCALENDAR
VERSION:2.0
PRODID:-//Purkersdorf Online//NONSGML V1.0//DE
BEGIN:VEVENT
UID:14676@puon.at
DTSTAMP:20260424T121738
DTSTART:20221025T190000
DTEND:20221025T220000
LAST-MODIFIED:20220909T121543
DESCRIPTION:Austropop im Stehbeisl Innenhof
 
LOCATION:Stehbeisl, Innenhof
SUMMARY:UHRsprung im Innenhof
END:VEVENT
END:VCALENDAR
