BEGIN:VCALENDAR
VERSION:2.0
PRODID:-//Purkersdorf Online//NONSGML V1.0//DE
BEGIN:VEVENT
UID:14674@puon.at
DTSTAMP:20260424T174418
DTSTART:20221028T193000
DTEND:20221028T220000
LAST-MODIFIED:20220903T125923
DESCRIPTION:Â© Foto: Konstantin Reyer\r\n\r\nGrooves\, Loops und Elektro
 nik.\r\n\r\nVerena Doublier und Sebastian Radon singen\, beatboxen\, kom
 ponieren und granteln sich seit nunmehr acht Jahren durch ihre Alltagswe
 lten und in die Herzen ihres Publikums. Neben ihren fulminanten Live-Auf
 tritten sind ihre Ã¼berraschenden Texte dabei ebenso ihr Markenzeichen g
 eworden\, wie ihre musikalische Vielseitigkeit.\r\n2019 verÃ¶ffentlichte
 n sie nach zwei Studioalben ( “Der Letzte Kaiser” – 2015 \, “ZWA” – 2016
 ) ihr erstes Live-Album\r\n( “endlich salonfÃ¤hig!” ) in Kooperation mit
  dem Original Wiener Salonensemble.\r\n\r\nDie Melodien und StreicherklÃ
 ¤nge dieser salonfÃ¤higen Ã„ra machen nun auf dem aktuellen Longplayer “
 Bis in der FrÃ¼h” wieder Platz fÃ¼r mehr Grooves\, Loops und Elektronik.
 \r\n\r\n \r\n __________________________________________________________
 ___________________________________________\r\n\r\n\r\nEinlass: 18:30 Uh
 r\r\nBeginn: 19:30 Uhr\r\n\r\nKarten:\r\n\r\n    VVK oeticket: online ..
 . demnÃ¤chst | Tel.: 0196096\r\n    Karten Vorverkauf: € 18.-\r\n\r\n\r\
 nEine Veranstaltung der "GrÃ¼nen Gablitz"\r\n\r\nFreie Platzwahl!\r\nDas
  bedeutet\, dass Sie mit Ihrem Ticket entsprechend den Ã¶rtlichen Gegebe
 nheiten Ihren Platz frei auswÃ¤hlen kÃ¶nnen.\r\nEs kann sich dabei um Si
 tzplÃ¤tze\, StehplÃ¤tze oder eine Teilbestuhlung ohne Sitzplatzanspruch 
 handeln.
 
LOCATION:Kulturverein "Die BÃ¼hne"
URL:https://www.die-buehne-purkersdorf.at/index.php?id=37
SUMMARY:Wiener Blond
END:VEVENT
END:VCALENDAR
