BEGIN:VCALENDAR
VERSION:2.0
PRODID:-//Purkersdorf Online//NONSGML V1.0//DE
BEGIN:VEVENT
UID:14672@puon.at
DTSTAMP:20260422T114526
DTSTART:20221021T193000
DTEND:20221021T220000
LAST-MODIFIED:20220903T124925
DESCRIPTION:Foto: Soul Impact\r\n\r\nDance & Powermusic der Oberliga\r\n
 \r\n\r\nSOUL IMPACT  - Die 10 Musiker von SOUL IMPACT rund um Bandleader
  Gottfried Heger (der  „Joe Cocker vom Wienerwald“) gastiert im Oktober 
 zum bereits vierten Male in der Purkersdorfer BĂĽhne.\r\nMit dem heurige
 n Programm „Music of Decades“ wartet SOUL IMPACT wieder mit Coverversion
 en echter Klassiker auf. Mit dabei sind wieder Songs von Joe Bonamassa\,
  Joe Cocker\, Tracey Chapman\, Tina Turner und vielen meht. Erstmals ist
  heuer auch eine deutsche Eigenkomposition von Leadgitarrist Ben Horcick
 a dabei\, die hoffentlich auch dem Soulpublikum gefĂ¤llt.\r\n\r\nWie sch
 on bei den ersten Gastspielen in Purkersdorf wird die Band von FrontsĂ¤n
 ger Heger\, gespickt mit Vollblutmusikern an den Blechinstrumenten\, Dru
 ms und Keyboards unterstĂĽtzt von zwei Gitarristen und einem Bassisten a
 us drei Generationen und einem Backgroundchor\, der auch durch Solonumme
 rn zu begeistern weiĂź.\r\nEindeutig ein Programm fĂĽr Liebhaber des gep
 flegten Soul\, Blues und Rock\, welches man auf keinen Fall versĂ¤umen s
 ollte.\r\n\r\nBesetzung:\r\nVocal: Gottfried “Gofi” Heger  (Atlas\, DĂ¤u
 mling\, For Tea 4…)\r\nVocal: Ann G MĂĽllner (eine SĂ¤ngerin\, die mit i
 hrer BĂĽhnenprĂ¤senz und charismatischen Stimme fĂĽr gute Stimmung sorgt
  und Sie zum Tanzen animiert)\r\nVocal: Sandra Kren (Ambros\, Vorstadtco
 mbo\, Manhattan\,….)\r\nDrums: Christian Ziegelwanger (The Hony Funk Bro
 thers...)\r\nBass: Roland Mach (Horny Funk Brothers\, Stella Jones\, Eri
 c Papilaya\, The Rats are Back\, …)\r\nGitarre: Ben Horcicka (3012_Compa
 ny\, !ndepmen\, Dado Eldorado Band\,…)\r\nGitarre: Kurt MĂĽller (Roxeven
 \, Soulshine\, Planet Family\, ….)\r\nKeyboard: Georg Adam Gruber (Adam 
 Project…)\r\nSaxophon: Lorenz Spritzendorfer (Horny Funk Brothers\, div.
  Orchester\, MS Europa..)\r\nTrompete: Martin Fischer (Horny Funk Brothe
 rs\, Wofgang Lindner Band\, Andy Lee Lang\,….)\r\nPosaune: Markus Hoffma
 nn (Horny Funk Brothers\, div. Orchester\, MS Europa..)\r\n\r\n\r\n\r\nD
 as Konzert ist eine Fremdveranstaltung mit freundlicher UnterstĂĽtzung v
 on\r\n\r\nAGENTEX – Agentur fĂĽr IT-Experten\r\n  ______________________
 ________________________________________________________________________
 _______\r\nEinlass: 18:30 Uhr\r\nBeginn: 19:30 Uhr\r\nKarten:\r\n\r\n   
  Karten Vorverkauf: € 25.-\r\n    Kartenreservierungen HIER \r\n    Auch
  Abendkassa!\r\n\r\n    Kein Kartenverkauf ĂĽber "Die BĂĽhne".\r\n    KE
 INE ErmĂ¤Ăźigungen !\r\n\r\n(Kinder unter 14 Jahren Eintritt frei)\r\n\r
 \n(Kooperationsveranstaltung)\r\n\r\nFreie Platzwahl!\r\nDas bedeutet\, 
 dass Sie mit Ihrem Ticket entsprechend den Ă¶rtlichen Gegebenheiten Ihre
 n Platz frei auswĂ¤hlen kĂ¶nnen.\r\nEs kann sich dabei um SitzplĂ¤tze\, 
 StehplĂ¤tze oder eine Teilbestuhlung ohne Sitzplatzanspruch handeln.
 
LOCATION:Kulturverein "Die BĂĽhne"
URL:https://www.die-buehne-purkersdorf.at/index.php?id=37
SUMMARY:SOUL IMPACT – “MUSIC of DECADES”
END:VEVENT
END:VCALENDAR
