BEGIN:VCALENDAR
VERSION:2.0
PRODID:-//Purkersdorf Online//NONSGML V1.0//DE
BEGIN:VEVENT
UID:14671@puon.at
DTSTAMP:20260421T225026
DTSTART:20221014T193000
DTEND:20221014T220000
LAST-MODIFIED:20220903T124246
DESCRIPTION:copyright: Stefanos Notopoulos\r\n"So wie’s is" Das Sensatio
 nskonzert wieder in der "BĂĽhne"\r\n"So wie's is" ist der Name des aktue
 llen Albums und Programms von Norbert Schneider.\r\nMit „So wie’s is“ wi
 dmet sich der zweifache Amadeus-Award-Gewinner Norbert Schneider\, nach 
 seinem aufsehenerregenden und mit GOLD ausgezeichneten Album „Neuaufnahm
 e - eine Hommage an Georg Danzer“\, wieder ganz dem eigenen musikalische
 n Schaffen.\r\n\,\,So wie’s is“ - das sind 13 Songs\, die allesamt aus e
 igener Feder stammen.\r\nSelbst geschrieben\, gesungen\, aufgenommen und
  produziert. 13 neue Lieder im Wiener Dialekt gehalten und sich die Frei
 heit nehmend\, die Genrevielfalt zu feiern\, ohne dabei als undefinierba
 res ‚von-allem-a-bissl-was‘ daherzukommen.\r\nNeben der neuen Nummern\, 
 bietet „So wie’s is“ einen Streifzug durch EinflĂĽsse und Stile\, die No
 rbert Schneider im Laufe seiner ĂĽber 20-jĂ¤hrigen BĂĽhnenkarriere tangi
 ert hat. Und natĂĽrlich darf das ein oder andere Lieblingslied aus den v
 ergangenen Alben nicht fehlen.\r\nErleben auch Sie ein Konzerterlebnis\,
  das Ihnen in Erinnerung bleiben wird. Ăśberzeuge Sie sich selbst von de
 r musikalischen Vielfalt und QualitĂ¤t\, die Norbert Schneider und seine
  fulminante Band an den Tag legen.\r\nBesetzung:\r\nNorbert Schneider - 
 git/vocs\r\nMax Tschida - piano/orgel\r\nDominik Fuss – trump\r\nFlorian
  Fuss – sax\r\nGeorg Schrattenholzer – tromb\r\nPhilip Pflamitzer – drum
 s\r\nGeorg Buxhofer – bass\r\nChristian Steinkogler - git/backing vocs _
 ________________________________________________________________________
 ____________________________\r\nEinlass: 18:30 Uhr\r\nBeginn: 19:30 Uhr\
 r\nKarten:\r\nVVK oeticket: Karten online | Tel.: 0196096\r\nVVK EVENTJE
 T: Karten hier bestellen\r\nKarten Vorverkauf: € 34.-\r\nKarten Abendkas
 sa: € 36.-\r\n\r\nErmĂ¤Ăźigungen:\r\nSchĂĽler/Studenten/1424Jugend:karte
  NĂ– (Ausweis) Ticketpreis € 10.-\r\nĂ–1-Club: 10% ErmĂ¤Ăźigung pro Tick
 et (Club-Ausweis)\r\nAK NĂ–/Ă–GB: 20% ErmĂ¤Ăźigung pro Ticket (AK-Servic
 ekarte/Ă–GB-Mitgliedskarte)\r\n\r\nFreie Platzwahl!\r\nDas bedeutet\, da
 ss Sie mit Ihrem Ticket entsprechend den Ă¶rtlichen Gegebenheiten Ihren 
 Platz frei auswĂ¤hlen kĂ¶nnen.\r\nEs kann sich dabei um SitzplĂ¤tze\, St
 ehplĂ¤tze oder eine Teilbestuhlung ohne Sitzplatzanspruch handeln. Wenig
 er anzeigen
 
LOCATION:Kulturverein "Die BĂĽhne"
URL:https://www.die-buehne-purkersdorf.at/index.php?id=37
SUMMARY:NORBERT SCHNEIDER & Band
END:VEVENT
END:VCALENDAR
