BEGIN:VCALENDAR
VERSION:2.0
PRODID:-//Purkersdorf Online//NONSGML V1.0//DE
BEGIN:VEVENT
UID:14670@puon.at
DTSTAMP:20260421T155853
DTSTART:20221010T193000
DTEND:20221010T220000
LAST-MODIFIED:20220903T123405
DESCRIPTION:Foto Copyright: Pfeifer\r\n\r\nIm Rahmen von "come on"\r\n\r
 \n \r\nSeit frühester Kindheit macht Marvie Musik.\r\nSie wurde in eine
  musikalische Familie hineingeboren und spielt Klavier\, singt und kompo
 niert.\r\n\r\nMit der Band "TMC Girls" wurde sie 2018 niederösterreichi
 sche Landessiegerin beim Wettbewerb "podium jazz.pop.rock". 2021 wurde s
 ie in der Kategorie Singer/Songwriter mit ihren Eigenkompositionen sowoh
 l Landes- als auch Bundessiegerin.\r\n2022 eröffnete sie den Kultursomm
 er in Purkersdorf mit ihrer neuen Band\, die sie seither begleitet. Lass
 en Sie sich von ihren Kompositionen verzaubern.(Pressetext)\r\n\r\nBeset
 zung:\r\nMarvie Pfeifer (Vocals & Piano)\r\nPaul Kleinscheck (Percussion
  & Drums)\r\nMoritz Köchelhuber (Percussion & Drums)\r\nJulian Schoof (
 E-Gitarre)\r\nLouisa Pock (Bass)\r\n\r\n________________________________
 __________________________________________________________________ _____
 ________________________________________________________________________
 ________________________ Einlass: 18:30 Uhr\r\nKonzert: 19:30 Uhr\r\n\r\
 nEintritt: Freiwillige Spende\r\n\r\n\r\nGefördert durch das Land NÖ "
 come-on" Kultur NÖ 
 
LOCATION:Kulturverein "Die Bühne"
URL:https://www.die-buehne-purkersdorf.at/index.php?id=37
SUMMARY:Blue Monday MARVIE PFEIFER & Band
END:VEVENT
END:VCALENDAR
