BEGIN:VCALENDAR
VERSION:2.0
PRODID:-//Purkersdorf Online//NONSGML V1.0//DE
BEGIN:VEVENT
UID:14669@puon.at
DTSTAMP:20260421T123828
DTSTART:20221008T193000
DTEND:20221008T220000
LAST-MODIFIED:20220903T122837
DESCRIPTION:Foto: UAJO BWM Pressefoto\r\n\r\nBrasilian World Music Proje
 ct\r\n\r\nDas UAJO lÃ¤dt dieses Jahr den Komponisten\, Schlagzeuger und 
 Perkussionisten Fernando Paiva aus Porto Alegre (Brasilien) fÃ¼r die gem
 einsame Gestaltung des neuesten Programms ein. Inspiriert durch seine He
 imat\, schÃ¶pft Paiva in seinen vielfÃ¤ltigen Kompositionen aus den Quel
 len brasilianischer Musik\, dem Jazz\, afrikanischer aber auch klassisch
 er Musik.\r\n\r\nDie Musiker des UAJO agieren als erfahrene Arrangeure u
 nd verwandeln den Sound dieser besonderen Klangwelt in ein orchestrales 
 Erlebnis. Kompositionen der Bandmitglieder ergÃ¤nzen das Programm und ri
 chten auch den Blick auf Musikstile SÃ¼damerikas\, Afrikas und Indiens.\
 r\n\r\nEgle Petrosiute JazzsÃ¤ngerin aus Litauen\, lebt in Den Haag\, un
 d bereichert die Melange musikalischer EinflÃ¼sse mitunter durch Ihre pe
 rsÃ¶nlichen Erfahrungen mit\, und ihre Liebe zu Musik aus aller Welt.\r\
 n\r\nNach 27 Jahren kontinuierlicher Kreativarbeit\, 11 CD Produktionen 
 einerseits eigener Projekte\, andererseits von Kooperationen mit GÃ¤sten
  wie Kenny Wheeler\, Jack Walrath\, Mike Gibbs\, Tini Kainrath und Konze
 rten mit internationalen JazzgrÃ¶ÃŸen wie Toshiko Akyioshi\, Maria JoÃ£o
 \, Mike Stern\, Richard Bona\, Mike Mainieri\, Richard Galliano und Jane
  Monheit schlÃ¤gt das UAJO mit dem neuen Programm ein weiteres Kapitel i
 n der Suche nach spannenden Big Bandprojekten auf.\r\nWir werden garanti
 ert eine Nacht voller Rhythmus\, Mantras und Melodien erleben\, in der d
 ie Musik direkt ins Herz geht und bei dem der europÃ¤ische Jazz und euro
 pÃ¤ische Musiktraditionen den KlÃ¤ngen Brasiliens und der Weltmusik bege
 gnen. (Pressetext)\r\n\r\n \r\ntrumpet section:\r\nAndreas Pranzl\r\nSim
 on PlÃ¶tzeneder\r\nJoschi Ã–ttl\r\nManfred Weinberger\r\n\r\nsaxophone s
 ection:\r\nAndreas See\r\nRobert MÃ¼llner\r\nChristian Maurer\r\nAndreas
  Lachberger\r\nJÃ¼rgen Haider\r\n\r\ntrombone section:\r\nDominik StÃ¶ge
 r\r\nPeter Nickel\r\nRobert Bachner\r\nHermann Mayr\r\n\r\nrhythm sectio
 n:\r\nHelmar Hill piano\r\nPrimus Sitter guitar\r\nChristian Wendt bass\
 r\nEwald Zach drums  \r\n_______________________________________________
 ______________________________________________________\r\n\r\nEinlass: 1
 8:30 Uhr\r\nBeginn: 19:30 Uhr\r\n\r\nKarten:\r\n\r\n    VVK oeticket: Ka
 rten online | Tel.: 0196096\r\n    VVK EVENTJET: Karten hier bestellen..
 . demnÃ¤chst\r\n    Karten Vorverkauf: € 23.-\r\n    Karten Abendkassa: 
 € 25.-\r\n\r\n\r\nErmÃ¤ÃŸigungen:\r\n\r\n    SchÃ¼ler/Studenten/1424Juge
 nd:karte NÃ– (Ausweis) Ticketpreis € 10.-\r\n    Ã–1-Club: 10% ErmÃ¤ÃŸig
 ung pro Ticket (Club-Ausweis)\r\n    AK NÃ–/Ã–GB: 20% ErmÃ¤ÃŸigung pro T
 icket (AK-Servicekarte/Ã–GB-Mitgliedskarte)\r\n\r\n \r\nFreie Platzwahl!
 \r\nDas bedeutet\, dass Sie mit Ihrem Ticket entsprechend den Ã¶rtlichen
  Gegebenheiten Ihren Platz frei auswÃ¤hlen kÃ¶nnen.\r\nEs kann sich dabe
 i um SitzplÃ¤tze\, StehplÃ¤tze oder eine Teilbestuhlung ohne Sitzplatzan
 spruch handeln.
 
LOCATION:Kulturverein "Die BÃ¼hne"
URL:https://www.die-buehne-purkersdorf.at/index.php?id=37
SUMMARY:The UPPER AUSTRIAN JAZZORCHESTRA
END:VEVENT
END:VCALENDAR
