BEGIN:VCALENDAR
VERSION:2.0
PRODID:-//Purkersdorf Online//NONSGML V1.0//DE
BEGIN:VEVENT
UID:14558@puon.at
DTSTAMP:20260424T103110
DTSTART;VALUE=DATE:20221024
DTEND;VALUE=DATE:20221025
LAST-MODIFIED:20220119T191222
LOCATION:Purkersdorf
SUMMARY:Biomüll
END:VEVENT
END:VCALENDAR
