BEGIN:VCALENDAR
VERSION:2.0
PRODID:-//Purkersdorf Online//NONSGML V1.0//DE
BEGIN:VEVENT
UID:14557@puon.at
DTSTAMP:20260421T155853
DTSTART;VALUE=DATE:20221010
DTEND;VALUE=DATE:20221011
LAST-MODIFIED:20220119T191222
LOCATION:Purkersdorf
SUMMARY:Biomüll
END:VEVENT
END:VCALENDAR
