BEGIN:VCALENDAR
VERSION:2.0
PRODID:-//Purkersdorf Online//NONSGML V1.0//DE
BEGIN:VEVENT
UID:14548@puon.at
DTSTAMP:20260424T123919
DTSTART;VALUE=DATE:20220808
DTEND;VALUE=DATE:20220809
LAST-MODIFIED:20220119T191222
LOCATION:Purkersdorf
SUMMARY:Biomüll
END:VEVENT
END:VCALENDAR
