BEGIN:VCALENDAR
VERSION:2.0
PRODID:-//Purkersdorf Online//NONSGML V1.0//DE
BEGIN:VEVENT
UID:14525@puon.at
DTSTAMP:20260421T210744
DTSTART;VALUE=DATE:20221013
DTEND;VALUE=DATE:20221014
LAST-MODIFIED:20220119T190745
LOCATION:Purkersdorf
SUMMARY:Restmüll 770-1100l
END:VEVENT
END:VCALENDAR
