BEGIN:VCALENDAR
VERSION:2.0
PRODID:-//Purkersdorf Online//NONSGML V1.0//DE
BEGIN:VEVENT
UID:RFCALITEM36408e35-677e-d168-d006-dbc41aba8baf20211121T150000Z
DTSTAMP:20260422T010631
DTSTART:20211121T160000
DTEND:20211121T210000
LAST-MODIFIED:20211117T121847
DESCRIPTION:AUF GRUND DER CORONA-SITUATION ABGESAGT!\r\n\r\nBITTE REGIST
 RIEREN SIE SICH KOSTENLOS AUF https://shop.eventjet.at/stadtgemeinde-pur
 kersdorf\r\nSie erleichtern uns damit wesentlich die Zutrittskontrolle\,
  weil wir Ihre Kontaktdaten nicht mehr erfassen mĂĽssen.\r\n\r\n19. – 21
 .11.2021\, Adventmarkt im Schlosspark Purkersdorf\r\nFreitag\, 19.11.  1
 8 – 22 Uhr \r\nSamstag\, 20.11. 16 – 22 Uhr \r\nSonntag\, 21.11. 16 – 21
  Uhr\r\n\r\nMit der Illuminierung des groĂźen Christbaumes vor der Kirch
 e am 19.11.<br>um 18 Uhr beginnt die Adventzeit der „Wir 5 im Wienerwald
 “.\r\nBei der ErĂ¶ffnungsfeier sorgt ein musikalisches Rahmenprogramm mi
 t dem Chor „Piccolo e Grande“ sowie Gospels mit Uschi Hollauf und „Three
  Girl Harmony“ fĂĽr vorweihnachtliche Stimmung.Im Anschluss laden in der
  schĂ¶nen Kulisse des Purkersdorfer Schlossparks Vereine zum gemĂĽtliche
 n Beisammensein mit Punsch und GlĂĽhwein ein.\r\nEin schĂ¶ner Mix aus Ku
 nsthandwerk und selbst gemachten KĂ¶stlichkeiten runden das Angebot ab.\
 r\nFĂĽr unsere kleinen GĂ¤ste gibt es eine Ăśberraschung: Am Samstag ab 
 16 Uhr kann mit dem Naturpark Wienerwald Christbaumschmuck aus Vogelfutt
 er gebastelt werden\, mit dem die ChristbĂ¤ume dann geschmĂĽckt werden.\
 r\n\r\nUnd am 6. Dezember von 16 bis 18 Uhr verteilt der Nikolo seine SĂ
 ¤ckchen!\r\n\r\nWeitere Termine:\r\nKartause Mauerbach Fr.\, 26.11.2021 
 17 – 22 Uhr Sa.\, 27.11.2021 14 – 22 Uhr So.\, 28.11.2021 13 – 19 Uhr\r\
 nKirchenplatz Gablitz Sa.\, 04.12.2021 15 – 22 Uhr So.\, 05.12.2021 15 –
  19 Uhr\r\nGemeindeamt Tullnerbach Fr.\, 10.12.2021 16 – 22 Uhr Sa.\, 11
 .12.2021 14 – 22 Uhr\r\nWirtschaftspark Wolfsgraben Sa.\, 18.12.2021 16 
 – 20 Uhr 
 
LOCATION:Schlosspark Purkersdorf, Hauptplatz 6 3002 Purkersdorf
SUMMARY:ABGESAGT: Adventpfad
END:VEVENT
END:VCALENDAR
