BEGIN:VCALENDAR
VERSION:2.0
PRODID:-//Purkersdorf Online//NONSGML V1.0//DE
BEGIN:VEVENT
UID:RFCALITEM11bddbc2-b947-0376-6d20-6331e5ab660320210730T173000Z
DTSTAMP:20260421T163958
DTSTART:20210730T193000
DTEND:20210730T220000
LAST-MODIFIED:00000000T000000
DESCRIPTION:Wer in Purkersdorf â€žregionales Programmâ€œ anbieten will\,
  kommt an diesen beiden Urgesteinen nicht vorbei: David Schrottenbaum un
 d Herbert Michelitsch sind hier legendÃ¤r\, kultiger Austropop steht auf
  dem Programm.<br>Mit von der Partie ist an diesem Abend auch Gastakkord
 eonist Peter Beinhofer.Â Der Rahmen dafÃ¼r ist so passend wie schÃ¶n: Im
  Gastgarten des JohannesBÃ¤r sitzt man direkt neben dem Naturpark Purker
 sdorf unter Kastanien und Linden â€“ Wald pur! Dazu gibt es bodenstÃ¤ndi
 ge WirtshauskÃ¼che und eine urige Schank.<br>Wer die Wienerwaldstadt Pur
 kersdorf in all ihren Facetten erleben will\, der sollte diesen Abend ni
 cht verpassen.Besetzung: David Schrottenbaum (voc\, guitar)\, Herbert Mi
 chelitsch (voc\, guitar)\, Peter Beinhofer (acc)
 
LOCATION:JohannesBär, 3002 Purkersdorf
SUMMARY:Schrotti & Hörb
END:VEVENT
END:VCALENDAR
