BEGIN:VCALENDAR
VERSION:2.0
PRODID:-//Purkersdorf Online//NONSGML V1.0//DE
BEGIN:VEVENT
UID:RFCALITEM7b65a125-f3b1-b83d-ede8-5040ab5ef0ba20210717T173000Z
DTSTAMP:20260424T141452
DTSTART:20210717T193000
DTEND:20210717T220000
LAST-MODIFIED:00000000T000000
DESCRIPTION:Er ist ein Wiener Original.<br> Ein Urgestein der Szene.<br>
  Und ein Entertainer par excellence: Roman Gregory.<br> Seit genau 30 Ja
 hren steht der gebürtige Wiener als Mastermind der Kultband Alkbottle\,
  Solokünstler\, Kabarettist und Moderator auf der Bühne.<br> Dafür be
 kam er bereits goldene Schallplatten\, jede Menge Fanpost und den „Ama
 deus Austrian Music Award“.<br> Nun schlägt der ehemalige Jugendboxme
 ister und nunmehrige ehrenamtliche Fußballclub-Präsident ein neues Kap
 itel auf und bringt zu seinem Bühnenjubiläum mit „Mei Raket’n“ d
 en ersten Vorboten zu seinem ersten selbst komponierten Album „Wödsch
 eibm“ (VÖ Herbst 2021) auf den Markt.<br> „Eigentlich die Platte\, 
 die ich seit 30 Jahren machen will“\, sagt er selbst darüber.<br>Sowo
 hl textlich als auch musikalisch scheint sich der 50jährige Meidlinger 
 nun tatsächlich gefunden zu haben.<br> Geradlinig\, authentisch und mes
 serscharf.<br> Der neue Stil zielt direkt auf Hörer/innen\, die deutsch
 sprachigen Pop/Rock/Blues mit einer Extraportion Wiener Schmäh schätze
 n.<br> Zündung! Lach- und Ohrwurmgarantie obendrein.<br> Live wird das 
 neue Programm natürlich mit den hellsten Sternen seines bisherigen Scha
 ffens und mit der einen oder anderen Austropop-Sternschnuppe garniert.<b
 r> Ready for boarding… Besetzung: Roman Gregory (Voc)\, Didi Baumgartn
 er (Git)\, Thomas Mora (Bass)\, Alex Schuster (Drums)
 
LOCATION:Die Buehne
SUMMARY:Roman Gregory
END:VEVENT
END:VCALENDAR
