BEGIN:VCALENDAR
VERSION:2.0
PRODID:-//Purkersdorf Online//NONSGML V1.0//DE
BEGIN:VEVENT
UID:14396@puon.at
DTSTAMP:20260422T060103
DTSTART:20210725T180000
DTEND:20210725T220000
LAST-MODIFIED:20210710T083408
DESCRIPTION:Rumpelstilzchen sucht einen Diener – und das auf der Stell! 
 Und da kommt ihm die verzweifelte MÃ¼llerstocher ganz recht\, die alles 
 fÃ¼r den zaubernden Zwerg tut\, um dem goldgierigen KÃ¶nigspaar zu entko
 mmen und den Prinzen zu heiraten. Stroh zu Gold spinnen – wer kann denn 
 sowas? Und doch scheint am Ende alles gut zu werden\, wenn da nicht ein 
 unglÃ¼ckseliges Versprechen wÃ¤re …\r\n\r\nEin spannendes\, musikalische
 s MÃ¤rchen fÃ¼r Familien\, empfohlen ab 5 Jahren.
 
LOCATION:Purkersdorf
URL:http://www.theater-purkersdorf.at
SUMMARY:Rumpelstilzchen
END:VEVENT
END:VCALENDAR
