BEGIN:VCALENDAR
VERSION:2.0
PRODID:-//Purkersdorf Online//NONSGML V1.0//DE
BEGIN:VEVENT
UID:RFCALITEM9728f72b-ea1a-cf14-3ef2-70effe1a1fb920210710T173000Z
DTSTAMP:20260425T012847
DTSTART:20210710T193000
DTEND:20210710T220000
LAST-MODIFIED:00000000T000000
DESCRIPTION:Zimperlich darf man hier nicht sein\, denn Fräulein Feuerst
 eins Selection gleicht einem rasanten Rundflug – frei nach Jules Verne
  – „in 80 Minuten um die Welt“.<br> Das unberechenbare Trio schein
 t sich überall zuhause zu fühlen: So temperamentvoll wie mühelos glei
 tet man von Nina Simone zu Bert Brecht\, vom Swing zum Chanson\, von Reg
 gae zu Jiddisch\, von Wien nach Vorarlberg und gleich weiter in die Schw
 eiz.<br>Kontrabassist Alessandro Vicard und Pianist Gerhard Buchegger bi
 lden einen eleganten wie groovigen Rahmen für die erfrischend unbefange
 ne Sängerin mit der warmen\, manchmal rauchigen Stimme.<br> Allen Dreie
 n steht die Freude an ihrem Tun ins Gesicht geschrieben.<br> Was aber wi
 rklich zu Herzen geht\, ist die fast liebevolle Dynamik im Zusammenspiel
  der Drei.<br>Petra Feuerstein kann ihre Herkunft aus dem Ländle schwer
  verbergen\, ihre Heimat hat sie aber in Gablitz gefunden.<br> Das Heims
 piel mit ihren Kollegen im Shakespeare Pub ist ihre musikalische Premier
 e in unserer Stadt.<br> Besetzung: Petra Feuerstein (voc)\, Alessandro V
 ocard (bass)\, Gerhard Buchegger (keys)
 
LOCATION:Cafe Salettl
SUMMARY:Fräulein Feuerstein
END:VEVENT
END:VCALENDAR
