BEGIN:VCALENDAR
VERSION:2.0
PRODID:-//Purkersdorf Online//NONSGML V1.0//DE
BEGIN:VEVENT
UID:RFCALITEM6ee13945-e20f-8261-be8d-eb38bfa948db20210701T140000Z
DTSTAMP:20260425T161923
DTSTART:20210701T160000
DTEND:20210701T210000
LAST-MODIFIED:20210629T113408
DESCRIPTION:Purkersdorf feiert die WiedererÃ¶ffnung des Jugendzentrums D
 ie Jugendarbeit kehrt in die Kaiser-Josef-StraÃŸe 49 zurÃ¼ck und kann na
 ch der Corona bedingten Sperre wieder erÃ¶ffnen.\r\nDie re-opening-Party
  findet am 1. Juli\, von 15 bis 21 Uhr statt.\r\nDie Stadtgemeinde Purke
 rsdorf kann stolz sein auf ihre Jugendarbeit\, denn sie hat das zweitÃ¤l
 teste Jugendzentrum in NiederÃ¶sterreich.\r\nDer Verein re:spect wurde b
 ereits im Sommer 1993 gegrÃ¼ndete und betreibt seit MÃ¤rz 1994 das Jugen
 dzentrum in der Kaiser-Josef-StraÃŸe 49.\r\nDas Zentrum ist seit damals 
 die Anlaufstelle fÃ¼r jugendkulturelle Veranstaltungen und wurde Ã¼ber d
 ie Stadtgrenzen hinaus zu einem Fixpunkt der Jugend.\r\nDas Angebot hat 
 sich jedoch im Laufe der Jahre erweitert\, so kam 1997 die Mobile Jugend
 arbeit dazu.\r\nDie BetreuerInnen begeben sich zu jenen PlÃ¤tzen im Ã¶ff
 entlichen Raum\, welche von Jugendlichen stark frequentiert und genutzt 
 werden.\r\nIm FrÃ¼hjahr 1999 erÃ¶ffnete der Verein re:spect in Zusammena
 rbeit mit der niederÃ¶sterreichischen Fachstelle die Jugendsuchtberatung
 sstelle\, welche direkt neben den RÃ¤umlichkeiten des Jugend- und Kultur
 hauses untergebracht wurde und seit 2007 wurde dieses Angebot um die nie
 drigschwellige Jugendberatung in Zusammenarbeit mit der NÃ– Kinder- und 
 Jugendwohlfahrt erweiterte.\r\nNach zwei Zwischenstopp an anderen Adress
 en in Purkersdorf ist das Jugendzentrum wieder an seinem ursprÃ¼nglichen
  Standort in der Kaiser-Josef-StraÃŸe 49 zurÃ¼ckgekehrt.\r\nDer Vorteil 
 an diesem Standort liegt auf der Hand\, denn neben den JugendrÃ¤umen gib
 t es einen Partyraum und einen groÃŸen Garten\, der ausreichend Platz fÃ
 ¼r diverse FreizeitaktivitÃ¤ten bietet.\r\nDie Jugendlichen werden dort 
 aber nicht nur in ihrer Freizeitgestaltung unterstÃ¼tzt sondern werden v
 on den Sozialarbeiter*innen Elisabeth Loidl und Robert Eder auch in alle
 n Problemlagen professionell beraten.\r\nOb Bewerbungsschreiben\, Stress
  mit MitschÃ¼ler*innen\, oder gar eine Vorladung zu BehÃ¶rden\, re:spect
  hilft kostenfrei.\r\nDie re:spect Jugendarbeit hat sich somit in den le
 tzten 28 Jahren zu einem wesentlichen Faktor der Jugendpolitik der Stadt
 gemeinde Purkersdorf entwickelt.\r\nDie re-opening-Party findet im Garte
 n des Jugendzentrums unter Einhaltung der aktuell geltenden behÃ¶rdliche
 n SchutzmaÃŸnahmen (Geimpft\, Getestet\, oder Genesen sowie FFP2 Maske) 
 statt.\r\nDie offizielle ErÃ¶ffnung erfolgt dann durch BÃ¼rgermeister St
 efan Steinbichler und den Jugendstadtrat Albrecht Oppitz.
 
LOCATION:Re:spect Kulturhaus
SUMMARY:Re-Opening-Party Jugendzentrum
END:VEVENT
END:VCALENDAR
