BEGIN:VCALENDAR
VERSION:2.0
PRODID:-//Purkersdorf Online//NONSGML V1.0//DE
BEGIN:VEVENT
UID:RFCALITEM94c5dc58-5c72-394d-90f2-c44f772c4c5a20210709T173000Z
DTSTAMP:20260425T025150
DTSTART:20210709T193000
DTEND:20210709T220000
LAST-MODIFIED:20210627T093400
DESCRIPTION:Mit 11 beginnt Lou Asril eine klassische Klavierausbildung\,
  mit 15 steht er zum ersten Mal mit eigenen Songs auf der BÃ¼hne und ste
 llt eine Band zusammen. Mit 17 gewinnt er den Joe Zawinul Award und bere
 ist die Studios von Los Angeles – er hat schon frÃ¼h die Erwartungshaltu
 ng hochgeschraubt und hat uns nicht enttÃ¤uscht: neben Platz-1-Charts- s
 owie prominenten Playlist-Platzierungen und Award-Nominierungen (Best Al
 ternative bei den AAMA\, FM4 Award) folgen Festival-Einladungen und Konz
 erte (Popfest Wien\, Live-Auftritte bei den Austrian Amadeus Music Award
 s\, Glatt & Verkehrt Festival\, Eurosonic Noorderslag Festival)\, die de
 n ersten Eindruck mehr als bestÃ¤tigen: seine Welt aus viel GefÃ¼hl und 
 sanftem Groove hat er nicht fÃ¼r sich allein gebaut. \r\nEin Auge auf di
 e TanzflÃ¤che\, das andere tief verschlossen fÃ¼r einen Blick nach innen
  – seine Musik und Texte treffen den Zeitgeist. HÃ¶r- und spÃ¼rbar wird 
 dies – aber lange nicht nur – bei seinen erstaunlichen Live-Sets.Immer w
 ieder schimmert auch Lou Asrils Begeisterung fÃ¼r Hip Hop und elektronis
 che Musik durch: im Sommer 2020 folgt der Release seiner Single Â»Berlin
 \, Pretty CityÂ«\, fÃ¼r die er mit dem Hamburger Producer AgaJon zusamme
 ngearbeitet hat\; fÃ¼r den gemeinsamen Auftritt bei den Austrian Amadeus
  Music Awards 2020 verÃ¶ffentlichen Lou Asril und (Conchita) WURST das p
 rogressive\, elektronische Cover des Austro-Hits Â»LovemachineÂ«. \r\nNi
 cht zuletzt das zeigt: das Universum von Lou Asril ist noch lange nicht 
 fertig gebaut. Dies ist erst der Anfang.Besetzung: Lou Asril (vocals)\, 
 Philipp MÃ¼lleder (keys)\, Alexander Matheis (bass)\, Benedikt Gann (dru
 ms)\, Pia Denz (backing vocals)\, Sophia Andlinger (backing vocals)\, Jo
 hannes Holzinger (backing vocals)
 
LOCATION:Die BÃ¼hne Purkersdorf
SUMMARY:Lou Asril
END:VEVENT
END:VCALENDAR
