BEGIN:VCALENDAR
VERSION:2.0
PRODID:-//Purkersdorf Online//NONSGML V1.0//DE
BEGIN:VEVENT
UID:RFCALITEMa2396e7f-997d-c5cc-ab10-40f1905dce5120210703T173000Z
DTSTAMP:20260425T132034
DTSTART:20210703T193000
DTEND:20210703T220000
LAST-MODIFIED:20210627T090328
DESCRIPTION:Weinzettl & Rudle: zum x-ten mal The gruen2g & three girl ha
 rmony project Monica Weinzettl und Gerold Rudle sind nicht nur Stars der
  heimischen Kabarettszene\, sondern auch Purkersdorfer. \r\nBei der ErÃ¶
 ffnung des Purkersdorfer Kultursommers geben sie ein echtes Heimspiel: w
 ir freuen uns auf Highlights aus ihrem 10. Programm „zum X-ten Mal“ und 
 natÃ¼rlich auf ein paar Seitenhiebe fÃ¼r Â­Einheimische.Wie oft noch? Wi
 r haben doch schon X-Mal darÃ¼ber geredet! \r\nJede x-beliebige Beziehun
 g kÃ¤mpft mit eXtremen Nichtigkeiten und Weinzettl & Rudle werden nicht 
 mÃ¼de\, darÃ¼ber zu berichten\, auch zum X-ten Mal. \r\nZum X-ten Mal be
 iÃŸen sich Weinzettl & Rudle am zÃ¤hen Â­PÃ¤rchenalltag die ZÃ¤hne aus. 
 Die Beziehungs-Stolpersteine werden nicht weniger\, die HÃ¼rden nicht kl
 einer und die Themen nicht neuer. Aber das alles kann die beiden nicht b
 remsen. \r\nAch so – nein\, es ist zum X. Mal\, schlieÃŸlich ist es ihr 
 10. Â­Programm. Ein JubilÃ¤um fÃ¼r EXperten.Also\, zum X-ten Mal: Ein fe
 hlendes X Chromosom macht IHN zum XXLHelden vor der X-Box und dabei geni
 eÃŸt er sein xundes Xelchtes\, wÃ¤hrend SIE x-beinig zur Xanthippe wird\
 , wenn sie merkt\, dass ihr das XS-Shirt nicht mehr passt. Hoffentlich i
 st dann bis X-mas alles wieder gut. \r\nZefiX no amoi!the gruen2g & thre
 e girl harmony project Wolfgang GrÃ¼nzweig ist seit Jahrzehnten ein Akte
 ur des Austropop\, mit seiner Band gruen2g hat er seine Traumbesetzung g
 efunden. Vergangenes Jahr erschien sein neues Album „phoenix“\, wie dies
 er will die Band nach der langen Pause fÃ¼r ihr Publikum aus der Asche s
 teigen.\r\nFÃ¼r die ErÃ¶ffnungsfeier des Kultursommer Purkersdorf aber w
 ird er die BÃ¼hne mit three girl harmony teilen\, eine Formation der cha
 rmanten Purkersdorfer SÃ¤ngerin Uschi Hollauf und ihren stimmgewaltigen 
 Kolleginnen Barbara Heilinger und Vera Steidl. \r\nAuf uns warten Rockso
 ngs vom feinsten\, ein Purkersdorfer Hitfeuerwerk zur BegrÃ¼ÃŸung des So
 mmers!Besetzung: Wolfgang GrÃ¼nzweig (w&m\, voc\, git)\, Georg Berner (b
 ass\, voc)\, Roland Bohunovsky (keyboard\, voc)\, Jakob GrÃ¼nzweig (drum
 s) Three Girl Harmony: Uschi Uschi Hollauf\, Barbara Heilinger\, Vera St
 eidl Die ErÃ¶ffnung findet am Hauptplatz im Bereich der GastgÃ¤rten und 
 des Wasserspiels statt. \r\n\r\nTickets fÃ¼r die Veranstaltung mÃ¼ssen v
 orab online gebucht werden\, der Durchgang wird in diesem Bereich gesper
 rt sein.Bei Schlechtwetter wird die Veranstaltung in „Die BÃ¼hne“ verleg
 t. Dort gelten ausschlieÃŸlich die „Rainy Day“-Tickets! „Sunny Day“-Tick
 ets sind nur gÃ¼ltig\, wenn das Wetter eine Veranstaltung am Hauptplatz 
 zulassen. \r\nDie BegrÃ¼ndung liegt in den BesucherbeschrÃ¤nkungen bei I
 ndoor-Events. Bitte informieren Sie sich im Internet!Â 
 
LOCATION:Hauptplatz Purkersdorf
SUMMARY:Kultursommer ErÃ¶ffnung
END:VEVENT
END:VCALENDAR
