BEGIN:VCALENDAR
VERSION:2.0
PRODID:-//Purkersdorf Online//NONSGML V1.0//DE
BEGIN:VEVENT
UID:14379@puon.at
DTSTAMP:20260425T145311
DTSTART:20210702T163000
DTEND:20210702T180000
LAST-MODIFIED:20210625T095542
DESCRIPTION:Du hast die Nummer 44 doppelt und brauchst dringend die Numm
 er 9?\r\n\r\nDann komm zu uns zur PANINI-PICKERL-TAUSCHBÖRSE!\r\n\r\nIm
  Hof oder im Foyer der Stadtbibliothek Purkersdorf (je nach Wetter)\r\n\
 r\n15 Personen können gleichzeitig an unseren Tischen Platz nehmen.\r\n
 MNS bitte nicht vergessen.\r\n 
 
LOCATION:Im Hof oder Foyer der Stadtbibliothek
SUMMARY:Panini-Pickerl-Tauschbörse
END:VEVENT
END:VCALENDAR
