BEGIN:VCALENDAR
VERSION:2.0
PRODID:-//Purkersdorf Online//NONSGML V1.0//DE
BEGIN:VEVENT
UID:14361@puon.at
DTSTAMP:20260426T015134
DTSTART:20210625T193000
DTEND:20210625T220000
LAST-MODIFIED:20210602T131534
DESCRIPTION:Foto: Â© by Andrea Sojka\r\n\r\nSeit Oktober 2019 ist Roland
  DÃ¼ringer mit seinem 13. Soloprogramm und EinpersonenstÃ¼ck "Africa Twi
 nis" auf Tour. Zwischendurch muss er aber seinen Gedanken auch einmal FR
 EIEN LAUF lassen. Es gibt einfach genug\, worÃ¼ber man von Zeit zu Zeit 
 sprechen muss. Es lohnt sich\, Roland DÃ¼ringer bei seinen Geschichten Ã
 ¼ber frÃ¼her\, seinen aktuellen Beobachtungen und Zukunftsvisionen zuzuh
 Ã¶ren. Und ja\, Sie dÃ¼rfen mit dem Schlimmsten rechnen.\r\n\r\n\r\nBiog
 rafie:\r\n\r\nRoland DÃ¼ringer ist als Schauspieler und Kabarettist eine
 m breiten Ã¶sterreichischen Publikum bekannt. Sein Film "Hinzerholz 8" g
 ilt nach wie vor als erfolgreichste Ã–sterreichische Kinoproduktion. Wei
 tere Erfolge waren Filme wie "Muttertag" und die Fernsehserie "MA2412". 
 Seine ersten Kabaretterfolge feierte Roland DÃ¼ringer mit der Gruppe "Sc
 hlabarett" und u.a. den Programmen "Atompilz von links" und "Sein und Sc
 hwein". Auf seine Soloprogramme wie "Die BenzinbrÃ¼der" und "Viertellite
 rklasse" folgte eine Vortragstrilogie\, die er im Programm "Weltfremd" n
 och einmal zusammenfasste. Seit Oktober 2019 ist Roland DÃ¼ringer mit se
 inem 13. Soloprogramm "Africa Twinis" auf Tour.\r\nwww.dueringer.at ____
 ________________________________________________________________________
 _________________________\r\nEinlass: 18:30 Uhr\r\nBeginn: 19:30 Uhr\r\n
 \r\nKarten:\r\n\r\nVVK oeticket: Karten online | Tel.: 0196096\r\nKarten
  Vorverkauf: € 25.-\r\nKarten EventJet: hier bestellen\r\nKarten Abendka
 ssa: € 28.-\r\n\r\n\r\nErmÃ¤ÃŸigungen:\r\n\r\nSchÃ¼ler/Studenten/1424Jug
 end:karte NÃ– (Ausweis) Ticketpreis € 10.-\r\nÃ–1-Club: 10% ErmÃ¤ÃŸigung
  pro Ticket (Club-Ausweis)\r\nAK NÃ–/Ã–GB: 20% ErmÃ¤ÃŸigung pro Ticket (
 AK-Servicekarte/Ã–GB-Mitgliedskarte)\r\n\r\nVerpflichtende MaÃŸnahmen en
 tsprechend der dzt. gÃ¼ltigen COVID-19-Ã–ffnungsverordnung:\r\n\r\nVor E
 intritt: Vorweisen eines Testergebnisses/Impfzertifikats/BestÃ¤tigung Ã¼
 ber eine durchgemachte Krankheit.\r\nAchtung! Die jeweiligen Nachweise m
 Ã¼ssen zum Zeitpunkt des Eintritts gÃ¼ltig sein\, sonst definitiv KEIN E
 intritt\, das Eintrittsticket verliert seine GÃ¼ltigkeit und kann nicht 
 erstattet werden!\r\nZugewiesene SitzplÃ¤tze\r\nRegistrierung zwecks ggf
 . Kontakt-Nachverfolgung\r\nDurchgehende FFP2-Maskenpflicht wÃ¤hrend der
  gesamten Veranstaltung\r\nund 2 Meter Abstand (auÃŸer am zugewiesenen S
 itzplatz) Auch im AuÃŸenbereich!\r\nSperrstunde 22 Uhr
 
LOCATION:Kulturverein "Die BÃ¼hne"
URL:https://www.oeticket.com/event/roland-dueringer-freier-lauf-die-buehne-13618898/
SUMMARY:Roland DÃ¼ringer  "Freier Lauf"
END:VEVENT
END:VCALENDAR
