BEGIN:VCALENDAR
VERSION:2.0
PRODID:-//Purkersdorf Online//NONSGML V1.0//DE
BEGIN:VEVENT
UID:14360@puon.at
DTSTAMP:20260423T202913
DTSTART:20210619T193000
DTEND:20210619T220000
LAST-MODIFIED:20210602T130700
DESCRIPTION:4 erfahrene junggebliebene Herren\, die dem Bandnamen alle E
 hre machen\, denn\r\nYAH steht fÃ¼r YOUNG AT HEART. Seit Jahren jammen s
 ie in verschiedenen Formationen immer wieder miteinander\, bis sich vor 
 kurzem eine fixe Einrichtung ergab\, um ihre persÃ¶nlichen MusikwÃ¼nsche
  leidenschaftlich zu zelebrieren.\r\n\r\nJazz\, Blues\, Soul\, Funk\, La
 tin\, und Eigenkompositionen sorgen fÃ¼r ein buntes abwechslungsreiches 
 Programm und versetzen so die ZuhÃ¶rer immer wieder in Begeisterung. (Pr
 essetext)\r\n\r\nHarald Gansberger – keyboards\r\nGernot (Jet)  SchÃ¼tz 
 – guitars\r\nFriedl Konlechner – bass\r\nHubert Sator - drums\, vocals _
 ________________________________________________________________________
 ____________________________\r\n\r\nEinlass: 18:30 Uhr\r\nBeginn: 19:30 
 Uhr\r\n\r\nKarten:\r\n\r\n    VVK oeticket: Karten online | Tel.: 019609
 6\r\n    VVK Eventjet: Karten hier\r\n    Karten Vorverkauf: € 20.- (Abh
 olung an der Abendkassa)\r\n    Karten Abendkassa: € 22.-\r\n\r\nErmÃ¤ÃŸ
 igungen:\r\n\r\n    SchÃ¼ler/Studenten/1424Jugend:karte NÃ– (Ausweis) Ti
 cketpreis € 10.-\r\n    Ã–1-Club: 10% ErmÃ¤ÃŸigung pro Ticket (Club-Ausw
 eis)\r\n    AK NÃ–: 20% ErmÃ¤ÃŸigung pro Ticket (Mitgliedsausweis)\r\n\r
 \n \r\n\r\nVerpflichtende MaÃŸnahmen entsprechend der dzt. gÃ¼ltigen COV
 ID-19-Ã–ffnungsverordnung:\r\n\r\n    Vor Eintritt: Vorweisen eines Test
 ergebnisses/Impfzertifikats/BestÃ¤tigung Ã¼ber eine durchgemachte Krankh
 eit.\r\n    Achtung! Die jeweiligen Nachweise mÃ¼ssen zum Zeitpunkt des 
 Eintritts gÃ¼ltig sein\, sonst definitiv KEIN Eintritt\, das Eintrittsti
 cket verliert seine GÃ¼ltigkeit und kann nicht erstattet werden!\r\n    
 Zugewiesene SitzplÃ¤tze\r\n    Registrierung zwecks ggf. Kontakt-Nachver
 folgung\r\n    Durchgehende FFP2-Maskenpflicht wÃ¤hrend der gesamten Ver
 anstaltung\r\n    und 2 Meter Abstand (auÃŸer am zugewiesenen Sitzplatz)
  Auch im AuÃŸenbereich!\r\n    Sperrstunde 22 Uhr
 
LOCATION:Kulturverein "Die BÃ¼hne"
URL:https://www.oeticket.com/event/yah-jazz-club-die-buehne-13618873/
SUMMARY:YAH Jazz Club  YOUNG AT HEART
END:VEVENT
END:VCALENDAR
