BEGIN:VCALENDAR
VERSION:2.0
PRODID:-//Purkersdorf Online//NONSGML V1.0//DE
BEGIN:VEVENT
UID:14344@puon.at
DTSTAMP:20260424T122531
DTSTART;VALUE=DATE:20210107
DTEND;VALUE=DATE:20210108
LAST-MODIFIED:20201220T224537
LOCATION:Purkersdorf
SUMMARY:Beginn der Christbaumabholung
END:VEVENT
END:VCALENDAR
