BEGIN:VCALENDAR
VERSION:2.0
PRODID:-//Purkersdorf Online//NONSGML V1.0//DE
BEGIN:VEVENT
UID:14343@puon.at
DTSTAMP:20260426T044950
DTSTART:20201213T080000
DTEND:20201213T180000
LAST-MODIFIED:20201213T083520
DESCRIPTION:Corona-Tests in Purkersdorf am 12. und 13. Dezember!\r\n\r\n
 Sie bekommen eine persönliche Einladung zugeschickt.\r\n\r\n
 
LOCATION:Purkersdorf
URL:http://www.purkersdorf.at/Niederoesterreich_testet_Am_12_und_13_Dezember_1
SUMMARY:Corona Tests in Purkersdorf
END:VEVENT
END:VCALENDAR
