BEGIN:VCALENDAR
VERSION:2.0
PRODID:-//Purkersdorf Online//NONSGML V1.0//DE
BEGIN:VEVENT
UID:14339@puon.at
DTSTAMP:20260422T031005
DTSTART;VALUE=DATE:20211122
DTEND;VALUE=DATE:20211123
LAST-MODIFIED:20201127T150837
LOCATION:Purkersdorf
SUMMARY:Biomüll
END:VEVENT
END:VCALENDAR
