BEGIN:VCALENDAR
VERSION:2.0
PRODID:-//Purkersdorf Online//NONSGML V1.0//DE
BEGIN:VEVENT
UID:14326@puon.at
DTSTAMP:20260421T110637
DTSTART;VALUE=DATE:20210802
DTEND;VALUE=DATE:20210803
LAST-MODIFIED:20201127T150837
LOCATION:Purkersdorf
SUMMARY:Biomüll
END:VEVENT
END:VCALENDAR
