BEGIN:VCALENDAR
VERSION:2.0
PRODID:-//Purkersdorf Online//NONSGML V1.0//DE
BEGIN:VEVENT
UID:14324@puon.at
DTSTAMP:20260424T103110
DTSTART;VALUE=DATE:20210719
DTEND;VALUE=DATE:20210720
LAST-MODIFIED:20201127T150837
LOCATION:Purkersdorf
SUMMARY:Biomüll
END:VEVENT
END:VCALENDAR
