BEGIN:VCALENDAR
VERSION:2.0
PRODID:-//Purkersdorf Online//NONSGML V1.0//DE
BEGIN:VEVENT
UID:14321@puon.at
DTSTAMP:20260425T203252
DTSTART;VALUE=DATE:20210628
DTEND;VALUE=DATE:20210629
LAST-MODIFIED:20201127T150837
LOCATION:Purkersdorf
SUMMARY:Biomüll
END:VEVENT
END:VCALENDAR
