BEGIN:VCALENDAR
VERSION:2.0
PRODID:-//Purkersdorf Online//NONSGML V1.0//DE
BEGIN:VEVENT
UID:14313@puon.at
DTSTAMP:20260426T052838
DTSTART;VALUE=DATE:20210419
DTEND;VALUE=DATE:20210420
LAST-MODIFIED:20201127T150516
LOCATION:Purkersdorf
SUMMARY:Biomüll
END:VEVENT
END:VCALENDAR
