BEGIN:VCALENDAR
VERSION:2.0
PRODID:-//Purkersdorf Online//NONSGML V1.0//DE
BEGIN:VEVENT
UID:14306@puon.at
DTSTAMP:20260422T113154
DTSTART;VALUE=DATE:20210111
DTEND;VALUE=DATE:20210112
LAST-MODIFIED:20201127T150516
LOCATION:Purkersdorf
SUMMARY:Biomüll
END:VEVENT
END:VCALENDAR
