BEGIN:VCALENDAR
VERSION:2.0
PRODID:-//Purkersdorf Online//NONSGML V1.0//DE
BEGIN:VEVENT
UID:14293@puon.at
DTSTAMP:20260425T042644
DTSTART;VALUE=DATE:20210708
DTEND;VALUE=DATE:20210709
LAST-MODIFIED:20201127T150246
LOCATION:Purkersdorf
SUMMARY:Restmüll 770-1100l
END:VEVENT
END:VCALENDAR
