BEGIN:VCALENDAR
VERSION:2.0
PRODID:-//Purkersdorf Online//NONSGML V1.0//DE
BEGIN:VEVENT
UID:14280@puon.at
DTSTAMP:20260424T122531
DTSTART;VALUE=DATE:20210107
DTEND;VALUE=DATE:20210108
LAST-MODIFIED:20201127T150022
LOCATION:Purkersdorf
SUMMARY:Restmüll 770-1100l
END:VEVENT
END:VCALENDAR
