BEGIN:VCALENDAR
VERSION:2.0
PRODID:-//Purkersdorf Online//NONSGML V1.0//DE
BEGIN:VEVENT
UID:14229@puon.at
DTSTAMP:20260426T045544
DTSTART;VALUE=DATE:20201025
DTEND;VALUE=DATE:20201025
LAST-MODIFIED:20200924T095432
DESCRIPTION:Ende der Sommerzeit 2020:\r\n\r\nDie Uhren werden um 3 Uhr n
 achts am 25.10. auf 2 Uhr zurückgestellt.\r\nEs beginnt dann die Normal
 zeit. 
 
SUMMARY:Ende der Sommerzeit
END:VEVENT
END:VCALENDAR
