BEGIN:VCALENDAR
VERSION:2.0
PRODID:-//Purkersdorf Online//NONSGML V1.0//DE
BEGIN:VEVENT
UID:RFCALITEM183fa933-2333-f0c2-a51a-6f1346991dd420200717T173000Z
DTSTAMP:20260422T083958
DTSTART:20200717T193000
DTEND:20200717T220000
LAST-MODIFIED:20200625T211442
DESCRIPTION:OPEN AIR und bei jedem Wetter!Â Bitte bringen Sie Regenschut
 z und feste Schuhe. Stellen Sie sich auf einen FuÃŸweg Ã¼ber die Forstst
 raÃŸe ein. Der Steinbruch Dambach liegt mitten im BiosphÃ¤renpark Wiener
 wald\, dort sind wir Menschen nur zu Gast. Verhalten Sie sich der Natur 
 gegenÃ¼ber respektvoll und lassen Sie keinen Abfall zurÃ¼ck. Vor allem a
 chtlos weggeworfene Zigaretten belasten die Umwelt sehr.Wir freuen uns\,
  dass der Kultursommer Purkersdorf stattfinden kann und ersuchen Sie fol
 gende ZugangsbeschrÃ¤nkungen (aufgrund von COVID-19) zu beachten: Â Im J
 ahr 2020 unterliegen alle Veranstaltungen besonderen Auflagen\, welche w
 ir Sie bitten einzuhalten.Obwohl der Kultursommer Purkersdorf – wie imme
 r – bei freiem Eintritt stattfindet\, mÃ¼ssen wir dennoch Platzreservier
 ungen vergeben\, um die hÃ¶chstzulÃ¤ssige Besucherzahl nicht zu Ã¼bersch
 reiten und eine Gruppenbildung im Zugangsbereich zu vermeiden. Zudem ist
 \, um alle GÃ¤ste im Falle des Auftretens einer COVID-19-Infektion schne
 ll informieren zu kÃ¶nnen\, die erforderliche Platzreservierung mit der 
 Bekanntgabe des vollen Namens und der Kontaktdaten verbunden.Â Wir ersuc
 hen Sie\, sich an die geltenden SicherheitsmaÃŸnahmen zu halten (Abstand
 sregelung\, Mund-Nasen-Schutz etc.) und sind bemÃ¼ht Sie laufend Ã¼ber d
 ie gÃ¼ltigen Bestimmungen zu informieren. Â Wir mÃ¶chten so vielen Purke
 rsdorfer*innen wie mÃ¶glich Kultur Pur bei freiem Eintritt bieten. Daher
  gilt:Es kÃ¶nnen pro Person und Veranstaltung nur je 2 Tickets reservier
 t werden.Â Um mÃ¶glichst viel Publikum mit Sicherheitsabstand einlassen 
 zu kÃ¶nnen\, werden alle Sessel paarweise aufgestellt. Daher gilt auch e
 ine Ticketreservierung immer fÃ¼r 2 PlÃ¤tze!Â Ihre Tickets mÃ¼ssenÂ am V
 eranstaltungstag bis 19:15 Uhr an der Abendkasse abgeholt werden\, da so
 nst die die Reservierung verfÃ¤llt und Ihre PlÃ¤tze weiter gegeben werde
 n kÃ¶nnen.Â Ticketreservierung ab 19. Juni 2020 online imÂ >TicketshopÂ 
 oder im Rathaus der Stadtgemeinde Purkersdorf._____________ Ulli BÃ¤er i
 st als Gitarrist bei WIR 4 schon fast Stammgast in Purkersdorf. Gemeinsa
 m mit seinem Partner Ulli Winter\, ebenfalls Gitarrist\, sind sie die Ge
 brÃ¼der Ullrich\, einfach weil doppelt besser hÃ¤lt.Letztes Jahr hÃ¤tten
  sie auch im Kultursommer Purkersdorf spielen sollen\, doch das Konzert 
 musste ausfallen. Heuer stand es wieder auf wackeligen Beinen\, aber wo 
 ein Wille\, da ein Weg: Wir sehen uns im Steinbruch Dambach\, mit regens
 icherer Kleidung und festen Schuhen!Besetzung:Â Ulli BÃ¤er (voc\, git)\,
  Ulli Winter (voc\, git)Ein herzliches DankeschÃ¶n gilt unseren Sponsore
 n fÃ¼r die Events des Kultursommer Purkersdorf: Wiener StÃ¤dtische Vienn
 a Insurance Group\, AK NÃ–\, Raiffeisenbank Wienerwald\, Rudi DrÃ¤xler I
 mmobilien\, Gruber Sauna\, Lifeline Fitness\, Revali Racing und Land NÃ–
 . Ohne die UnterstÃ¼tzung von Partnern wÃ¤re dieses Â­Kulturangebot bei 
 freiem Eintritt nicht verwirklichbar.
 
LOCATION:Steinbruch Dambach
SUMMARY:GebrÃ¼der Ullrich
END:VEVENT
END:VCALENDAR
