BEGIN:VCALENDAR
VERSION:2.0
PRODID:-//Purkersdorf Online//NONSGML V1.0//DE
BEGIN:VEVENT
UID:14167@puon.at
DTSTAMP:20260425T145311
DTSTART;VALUE=DATE:20201222
DTEND;VALUE=DATE:20201223
LAST-MODIFIED:20200423T212710
LOCATION:Purkersdorf
SUMMARY:Restmüll 770-1100l
END:VEVENT
END:VCALENDAR
