BEGIN:VCALENDAR
VERSION:2.0
PRODID:-//Purkersdorf Online//NONSGML V1.0//DE
BEGIN:VEVENT
UID:14123@puon.at
DTSTAMP:20260423T144647
DTSTART:20200327T100000
DTEND:20200327T180000
LAST-MODIFIED:20200313T001038
LOCATION:Purkersdorf Hauptplatz
SUMMARY:ABGESAGT: Ostermarkt
END:VEVENT
END:VCALENDAR
