BEGIN:VCALENDAR
VERSION:2.0
PRODID:-//Purkersdorf Online//NONSGML V1.0//DE
BEGIN:VEVENT
UID:13944@puon.at
DTSTAMP:20260425T203307
DTSTART:20190802T183000
DTEND:20190802T203000
LAST-MODIFIED:20190729T082513
DESCRIPTION:In ihrem schon vielmals aufgefÃ¼hrten\, humorvollen Programm
  bieten Thomas Malik und Andreas Sauerzapf Kabarett im altbewÃ¤hrten Wie
 ner Stil und bringen Texte\, Lieder\, Couplets und DoppelconfÃ©rencen vo
 n Johann Nestroy\, Karl Farkas\, Heinz Conrads bis hin zu Hugo Wiener un
 d Georg Kreisler.\r\n\r\nEintritt frei
 
LOCATION:BIZ Konzertsaal
SUMMARY:Bitt´schÃ¶n, was ist ein Buffo
END:VEVENT
END:VCALENDAR
