BEGIN:VCALENDAR
VERSION:2.0
PRODID:-//Purkersdorf Online//NONSGML V1.0//DE
BEGIN:VEVENT
UID:13926@puon.at
DTSTAMP:20260425T012846
DTSTART:20190721T210000
DTEND:20190721T223000
LAST-MODIFIED:20190716T211857
DESCRIPTION:re:spect Sommerkino\r\n\r\nRomantisch\, spannend\, emotional
  und sozial. Heuer gibt es eine gute Mischung aus Action\, Emotion und H
 umor. Wir starten am Freitag mit „The Big Sick“\, einem Liebesfilm aus d
 en USA\, am Samstag bieten wir dann Spannung mit dem Actionkrimi „Wild T
 arget“ aus GroÃŸbritannien. Und mit der brandneuen und gerade erst angel
 aufenen Ã¶sterreichischen KomÃ¶die „Kaviar“ beenden wird das diesjÃ¤hrig
 e re:spect Sommerkino Purkersdorf. NatÃ¼rlich gibt es auch GetrÃ¤nke und
  Snacks sowie Decken\, falls es etwas kÃ¼hler werden sollte. GenieÃŸen S
 ie das einmalige Erlebnis von Kino unter Sternen im wunderbaren Schlossp
 ark von Purkersdorf!
 
LOCATION:Schlosspark Purkersdorf
URL:https://www.youtube.com/watch?v=XkFRwBLUBzw
SUMMARY:Sommerkino: Kaviar
END:VEVENT
END:VCALENDAR
