BEGIN:VCALENDAR
VERSION:2.0
PRODID:-//Purkersdorf Online//NONSGML V1.0//DE
BEGIN:VEVENT
UID:13864@puon.at
DTSTAMP:20260424T222755
DTSTART:20190719T183000
DTEND:20190719T210000
LAST-MODIFIED:20190716T211650
DESCRIPTION:Einladung zum Gründungstreffen der Radlobby Purkersdorf\r\n
 \r\nRadwege\, Radabstellanlagen Rad & Öffis\, Rad & Recht\, Schulwege. 
 usw\r\n\r\nWir laden zum Austausch der Erfahrungen und zur Sammlung von 
 Verbesserungen in Purkersdorf\r\n\r\nGestalten Sie mit!\r\n\r\nUnsere Ve
 rkehrsstadträtin Christiane Maringer ist bei der Veranstaltung mit dabe
 i!
 
LOCATION:Kleiner Stadtsaal
URL:http://noe.radlobby.at/
SUMMARY:Radlobby Gründungstreffen
END:VEVENT
END:VCALENDAR
